BEGIN:VCALENDAR
VERSION:2.0
PRODID:-//Adria Women&#039;s Health - ECPv6.15.20//NONSGML v1.0//EN
CALSCALE:GREGORIAN
METHOD:PUBLISH
X-WR-CALNAME:Adria Women&#039;s Health
X-ORIGINAL-URL:https://adriawomenshealth.org
X-WR-CALDESC:Events for Adria Women&#039;s Health
REFRESH-INTERVAL;VALUE=DURATION:PT1H
X-Robots-Tag:noindex
X-PUBLISHED-TTL:PT1H
BEGIN:VTIMEZONE
TZID:UTC
BEGIN:STANDARD
TZOFFSETFROM:+0000
TZOFFSETTO:+0000
TZNAME:UTC
DTSTART:20230101T000000
END:STANDARD
END:VTIMEZONE
BEGIN:VEVENT
DTSTART;TZID=UTC:20240917T093000
DTEND;TZID=UTC:20240917T103000
DTSTAMP:20260421T100020
CREATED:20240610T221543Z
LAST-MODIFIED:20250722T155359Z
UID:10001324-1726565400-1726569000@adriawomenshealth.org
SUMMARY:Latch & Chat
DESCRIPTION:A FREE casual mom to mom breastfeeding and pumping group that offers in- person support to moms. When you attend a meeting\, feel free to come late or leave early. Any expectant mom or current breastfeeding/ pumping mom and infant can come meet other breastfeeding moms in the area! Here is a way to get you out of the house and have adult conversation with other women. A lactation consultant (IBCLC) or IBCLC in training will be at every meeting to help with latch and answer questions. A baby scale will be available for pre and post feed weights. Now you can see exactly how much the baby is eating.
URL:https://adriawomenshealth.org/event/latch-chat-3/2024-09-17/
LOCATION:Adria Women’s Health\, 10000 Emmett F. Lowry Expressway\, Suite 1240\, Texas City\, 77591\, United States
END:VEVENT
BEGIN:VEVENT
DTSTART;TZID=UTC:20240917T110000
DTEND;TZID=UTC:20240917T130000
DTSTAMP:20260421T100020
CREATED:20240606T030203Z
LAST-MODIFIED:20240606T030203Z
UID:10001265-1726570800-1726578000@adriawomenshealth.org
SUMMARY:Mothers & Babies (continuation)
DESCRIPTION:Continuation of the Mothers & Babies 6-week Parenting Group
URL:https://adriawomenshealth.org/event/mothers-babies-continuation/2024-09-17/
LOCATION:Adria Women’s Health\, 10000 Emmett F. Lowry Expressway\, Suite 1240\, Texas City\, 77591\, United States
END:VEVENT
BEGIN:VEVENT
DTSTART;TZID=UTC:20240917T180000
DTEND;TZID=UTC:20240917T193000
DTSTAMP:20260421T100020
CREATED:20240412T164502Z
LAST-MODIFIED:20240827T200807Z
UID:10001246-1726596000-1726601400@adriawomenshealth.org
SUMMARY:Car Seat Safety (Sept 17)
DESCRIPTION:Class is offered in English and Spanish. \nLearn how to properly install your car seat and secure your child. A free car seat included for attending \nAprenda instalar de manera segura el asiento de automovil para asegurar a su hijo/a. Incluye un asiento de automovil gratis. \n*Only one car seat per household. Solo un asiento por familia.
URL:https://adriawomenshealth.org/event/car-seat-safety-sept-17/
LOCATION:Adria Women’s Health\, 10000 Emmett F. Lowry Expressway\, Suite 1240\, Texas City\, 77591\, United States
END:VEVENT
END:VCALENDAR